BEGIN:VCALENDAR
VERSION:2.0
PRODID:-//IBM Barcelona Ring 401 - ECPv6.15.20//NONSGML v1.0//EN
CALSCALE:GREGORIAN
METHOD:PUBLISH
X-ORIGINAL-URL:https://ibm401barcelona.com
X-WR-CALDESC:Eventos para IBM Barcelona Ring 401
REFRESH-INTERVAL;VALUE=DURATION:PT1H
X-Robots-Tag:noindex
X-PUBLISHED-TTL:PT1H
BEGIN:VTIMEZONE
TZID:Europe/Madrid
BEGIN:DAYLIGHT
TZOFFSETFROM:+0100
TZOFFSETTO:+0200
TZNAME:CEST
DTSTART:20240331T010000
END:DAYLIGHT
BEGIN:STANDARD
TZOFFSETFROM:+0200
TZOFFSETTO:+0100
TZNAME:CET
DTSTART:20241027T010000
END:STANDARD
BEGIN:DAYLIGHT
TZOFFSETFROM:+0100
TZOFFSETTO:+0200
TZNAME:CEST
DTSTART:20250330T010000
END:DAYLIGHT
BEGIN:STANDARD
TZOFFSETFROM:+0200
TZOFFSETTO:+0100
TZNAME:CET
DTSTART:20251026T010000
END:STANDARD
BEGIN:DAYLIGHT
TZOFFSETFROM:+0100
TZOFFSETTO:+0200
TZNAME:CEST
DTSTART:20260329T010000
END:DAYLIGHT
BEGIN:STANDARD
TZOFFSETFROM:+0200
TZOFFSETTO:+0100
TZNAME:CET
DTSTART:20261025T010000
END:STANDARD
END:VTIMEZONE
BEGIN:VEVENT
DTSTART;TZID=Europe/Madrid:20250206T190000
DTEND;TZID=Europe/Madrid:20250206T220000
DTSTAMP:20260421T232602
CREATED:20250121T194751Z
LAST-MODIFIED:20250121T200028Z
UID:2911-1738868400-1738879200@ibm401barcelona.com
SUMMARY:SUBASTA de productos de Magia
DESCRIPTION:Subasta de productos de Magia: libros\, productos descatalogados\, carteles de Magia\, productos nuevos y de segunda mano. \nEstáis todos invitados. \nOcasiones únicas para cualquier mago.
URL:https://ibm401barcelona.com/evento/subasta-de-productos-de-magia-5/
LOCATION:Lleialtat Santsenca\, Carrer d'Olzinelles\, 31\, Barcelona\, 08014\, Spain
ORGANIZER;CN="IBM Ring 401":MAILTO:ibmbarcelonaring401@gmail.com
END:VEVENT
BEGIN:VEVENT
DTSTART;TZID=Europe/Madrid:20250220T190000
DTEND;TZID=Europe/Madrid:20250220T220000
DTSTAMP:20260421T232602
CREATED:20250121T195753Z
LAST-MODIFIED:20250121T195753Z
UID:2913-1740078000-1740088800@ibm401barcelona.com
SUMMARY:Conferencia de HENRY EVANS - Detrás del Efecto
DESCRIPTION:Esta conferencia tiene el foco puesto en todo lo que ocurre alrededor de un efecto\, aquello que no se ve\, pero se percibe\, se siente\, y que es tan importante para lograr un buen resultado en nuestra magia con el publico.\nAlgunos de los conceptos que vamos a ver:\n– El timing en la técnica\n– El timing en la presentación\n– La fuerza mágica de la palabra\n– Lo que decimos y como lo decimos\n– Técnicas de oratoria que justifican y acompañan al efecto puesto en acción\nCada uno de los conceptos será llevado a la practica a través de la demostración de efectos \nPara los amantes de la cartomagia\, habrá una sección de efectos de alto impacto que podrán realizarse con un fácil set up\, y en algunos casos sin ningún set up. \n 
URL:https://ibm401barcelona.com/evento/conferencia-de-henry-evans/
LOCATION:Lleialtat Santsenca\, Carrer d'Olzinelles\, 31\, Barcelona\, 08014\, Spain
ATTACH;FMTTYPE=image/jpeg:https://ibm401barcelona.com/wp-content/uploads/2025/01/henry-evans-1-e1737489405897.jpg
ORGANIZER;CN="IBM Ring 401":MAILTO:ibmbarcelonaring401@gmail.com
END:VEVENT
END:VCALENDAR