BEGIN:VCALENDAR
VERSION:2.0
PRODID:-//IBM Barcelona Ring 401 - ECPv6.15.20//NONSGML v1.0//EN
CALSCALE:GREGORIAN
METHOD:PUBLISH
X-WR-CALNAME:IBM Barcelona Ring 401
X-ORIGINAL-URL:https://ibm401barcelona.com
X-WR-CALDESC:Eventos para IBM Barcelona Ring 401
REFRESH-INTERVAL;VALUE=DURATION:PT1H
X-Robots-Tag:noindex
X-PUBLISHED-TTL:PT1H
BEGIN:VTIMEZONE
TZID:Europe/Madrid
BEGIN:DAYLIGHT
TZOFFSETFROM:+0100
TZOFFSETTO:+0200
TZNAME:CEST
DTSTART:20240331T010000
END:DAYLIGHT
BEGIN:STANDARD
TZOFFSETFROM:+0200
TZOFFSETTO:+0100
TZNAME:CET
DTSTART:20241027T010000
END:STANDARD
BEGIN:DAYLIGHT
TZOFFSETFROM:+0100
TZOFFSETTO:+0200
TZNAME:CEST
DTSTART:20250330T010000
END:DAYLIGHT
BEGIN:STANDARD
TZOFFSETFROM:+0200
TZOFFSETTO:+0100
TZNAME:CET
DTSTART:20251026T010000
END:STANDARD
BEGIN:DAYLIGHT
TZOFFSETFROM:+0100
TZOFFSETTO:+0200
TZNAME:CEST
DTSTART:20260329T010000
END:DAYLIGHT
BEGIN:STANDARD
TZOFFSETFROM:+0200
TZOFFSETTO:+0100
TZNAME:CET
DTSTART:20261025T010000
END:STANDARD
END:VTIMEZONE
BEGIN:VEVENT
DTSTART;TZID=Europe/Madrid:20250410T190000
DTEND;TZID=Europe/Madrid:20250410T220000
DTSTAMP:20260421T202856
CREATED:20250326T193929Z
LAST-MODIFIED:20250326T193929Z
UID:3014-1744311600-1744322400@ibm401barcelona.com
SUMMARY:PADDLEMANIA 2
DESCRIPTION:Presentación del nuevo libro de nuestro presidente\, donde nos descubre nuevos horizontes de este elemento mágico. \nSocios gratis\nNo socios 10 euros
URL:https://ibm401barcelona.com/evento/paddlemania-2/
LOCATION:Lleialtat Santsenca\, Carrer d'Olzinelles\, 31\, Barcelona\, 08014\, Spain
END:VEVENT
BEGIN:VEVENT
DTSTART;TZID=Europe/Madrid:20250424T190000
DTEND;TZID=Europe/Madrid:20250424T220000
DTSTAMP:20260421T202856
CREATED:20250411T103452Z
LAST-MODIFIED:20250411T103452Z
UID:3018-1745521200-1745532000@ibm401barcelona.com
SUMMARY:SUBASTA de productos de Magia
DESCRIPTION:Subasta de productos de Magia de la mano del Magic Andreu: libros\, productos descatalogados\, carteles de Magia\, productos nuevos y de segunda mano a precios ridículos. \nEstáis todos invitados. \nOcasiones únicas para cualquier mago.
URL:https://ibm401barcelona.com/evento/subasta-de-productos-de-magia-6/
LOCATION:Lleialtat Santsenca\, Carrer d'Olzinelles\, 31\, Barcelona\, 08014\, Spain
ORGANIZER;CN="IBM Ring 401":MAILTO:ibmbarcelonaring401@gmail.com
END:VEVENT
END:VCALENDAR