BEGIN:VCALENDAR
VERSION:2.0
PRODID:-//IBM Barcelona Ring 401 - ECPv6.15.20//NONSGML v1.0//EN
CALSCALE:GREGORIAN
METHOD:PUBLISH
X-ORIGINAL-URL:https://ibm401barcelona.com
X-WR-CALDESC:Eventos para IBM Barcelona Ring 401
REFRESH-INTERVAL;VALUE=DURATION:PT1H
X-Robots-Tag:noindex
X-PUBLISHED-TTL:PT1H
BEGIN:VTIMEZONE
TZID:Europe/Madrid
BEGIN:DAYLIGHT
TZOFFSETFROM:+0100
TZOFFSETTO:+0200
TZNAME:CEST
DTSTART:20240331T010000
END:DAYLIGHT
BEGIN:STANDARD
TZOFFSETFROM:+0200
TZOFFSETTO:+0100
TZNAME:CET
DTSTART:20241027T010000
END:STANDARD
BEGIN:DAYLIGHT
TZOFFSETFROM:+0100
TZOFFSETTO:+0200
TZNAME:CEST
DTSTART:20250330T010000
END:DAYLIGHT
BEGIN:STANDARD
TZOFFSETFROM:+0200
TZOFFSETTO:+0100
TZNAME:CET
DTSTART:20251026T010000
END:STANDARD
BEGIN:DAYLIGHT
TZOFFSETFROM:+0100
TZOFFSETTO:+0200
TZNAME:CEST
DTSTART:20260329T010000
END:DAYLIGHT
BEGIN:STANDARD
TZOFFSETFROM:+0200
TZOFFSETTO:+0100
TZNAME:CET
DTSTART:20261025T010000
END:STANDARD
END:VTIMEZONE
BEGIN:VEVENT
DTSTART;TZID=Europe/Madrid:20250612T190000
DTEND;TZID=Europe/Madrid:20250612T220000
DTSTAMP:20260421T173001
CREATED:20250604T105628Z
LAST-MODIFIED:20250604T105628Z
UID:3045-1749754800-1749765600@ibm401barcelona.com
SUMMARY:SUBASTA de productos de Magia
DESCRIPTION:Subasta de productos de Magia de la mano del Magic Andreu: libros\, productos descatalogados\, carteles de Magia\, productos nuevos y de segunda mano a precios ridículos. \nÚltima subasta de la temporada\, con la participación especial de Magic Andreu.\nUna oportunidad única para comprar y vender productos mágicos en excelente estado y a precios increíbles.\nTrae tu material para vender\, ven a buscar algún tesoro mágico o simplemente disfruta de una velada divertida con colegas y amigos.\n\nEstáis todos invitados. \nOcasiones únicas para cualquier mago.
URL:https://ibm401barcelona.com/evento/subasta-de-productos-de-magia-7/
LOCATION:Lleialtat Santsenca\, Carrer d'Olzinelles\, 31\, Barcelona\, 08014\, Spain
ORGANIZER;CN="IBM Ring 401":MAILTO:ibmbarcelonaring401@gmail.com
END:VEVENT
BEGIN:VEVENT
DTSTART;TZID=Europe/Madrid:20250626T190000
DTEND;TZID=Europe/Madrid:20250626T220000
DTSTAMP:20260421T173001
CREATED:20250604T110204Z
LAST-MODIFIED:20250604T110225Z
UID:3047-1750964400-1750975200@ibm401barcelona.com
SUMMARY:Conferencia de mago Vanshy
DESCRIPTION:Próxima conferencia de IBM Barcelona con Vanshy\nUna cita imperdible con un artista innovador y sorprendente. \n¡Te esperamos para aprender\, inspirarnos y compartir!
URL:https://ibm401barcelona.com/evento/conferencia-de-mago-vanshy/
LOCATION:Lleialtat Santsenca\, Carrer d'Olzinelles\, 31\, Barcelona\, 08014\, Spain
ORGANIZER;CN="IBM Ring 401":MAILTO:ibmbarcelonaring401@gmail.com
END:VEVENT
END:VCALENDAR